BEGIN:VCALENDAR
VERSION:2.0
PRODID:-//wp-events-plugin.com//7.2.3.1//EN
BEGIN:VEVENT
UID:10@veterankolding.dk
DTSTART:20220820T140000Z
DTEND:20220820T140000Z
DTSTAMP:20220811T085128Z
URL:https://veterankolding.dk/aktiviteter/kan-man-lave-flaeskesteg-over-ba
 al/
SUMMARY:Kan man lave flæskesteg over bål?
DESCRIPTION:En af vores veteraner har sat sig for at teste om man rent fakt
 isk KAN lave flæskesteg over bål. I denne forbindelse inviterer han vete
 raner og pårørende til at være med. Han stiller bålplads til rådighed
  i naturskønne omgivelser med tilhørende shelter. Foreningen sørger for
  flæskesteg og tilbehør.\n&nbsp\;\nSå skynd dig og meld dig til en hygg
 elig dag i gode menneskers lag i Vamdrup nær Kolding.
END:VEVENT
END:VCALENDAR